BEGIN:VCALENDAR
VERSION:2.0
PRODID:-//https://www.orchestras.sys.org.au///NONSGML kigkonsult.se iCalcreator 2.10.15//
METHOD:PUBLISH
BEGIN:VEVENT
UID:20260424T073736PDT-5288V9w3Bf@https://www.orchestras.sys.org.au/
DTSTAMP:20260424T143736Z
DESCRIPTION:YOUNG VIRTUOSOS 2022\nDesigned for the exhibition of young musi
 cians' virtuosity\, this program encourages young musicians to perform sol
 o pieces accompanied by the orchestra.It provides a unique opportunity for
  young musicians to have their first attempt as a soloist accompanied by a
 n orchestra in front of a live audience. Learning the procedure and etique
 tte involved in such a performance will bring to a young musician an unfor
 gettable and empowering experience. This valuable and unique experience wi
 ll elevate their performance qualities and their love and passion for musi
 c.PROGRAM\nSydney Hills Junior Orchestra\n\nIsobel Caffyn - Chanson De Mat
 in by E. Elgar\nPhoebe Ge - Hungarian Dance by A. Nolck\nAimee Lin - Russi
 an Fantasy by L Portnoff\nHannah Zhou - Allegro by G. F. Tilmann\nWiliam L
 i - Dance Characteristique by V. Rebikov\nHoward Sun - Josk: Zigeuner-roma
 nze by J. Kok\nHarvy Li - Josk: Zigeuner-romanze by J Kok\nAventine Nguyen
  - Humoresque by A. Dvorak\nZahra Wickramage - Humoresque by A. Dvorak\nAs
 hleigh Wong -Spasvogel by A. Grechaninov\nWilliam Caffyn - Budapesto by C.
  Cheney \nVictoria Pan - J.B.S. Breval Concertino\nHayden North - Harlequi
 nade by W. H. Squire\n\n\nSydney Hills Youth Orchestra\n\nWolfgang Amadeus
  Mozart\, Divertimento  No.24I AllegroII AndanteIII Presto\nCarl Nielsen\,
  Suite  Op. 1I PraludiumII IntermiezzoIII Finale\n\nTickets and bookings:
 \nFor more information contact:\nConcert Manger\, Rita Lee 0424 567 909 ri
 ta.lee@sys.org.auOr contact our Orchestra Manager - Rebecca Caffyn at 0424
  151 452  rebeca.caffyn@sys.org.au\n\nOr email us: management@sys.org.au\n
  \nPROGRAM\n\n\n https://www.orchestras.sys.org.au/index.php/concerts/even
 t/73-young-virtuosos-2022-sysc-no-34
DTSTART:20220909T093000Z
DTEND:20220909T110000Z
LOCATION:Pioneer Theatre Castle Hill (14 Pennant St\, Castle Hill NSW 2154)
SUMMARY:YOUNG VIRTUOSOS 2022 (SYSC No.34)
URL:https://www.orchestras.sys.org.au/index.php/concerts/event/73-young-vir
 tuosos-2022-sysc-no-34
END:VEVENT
END:VCALENDAR
