BEGIN:VCALENDAR
VERSION:2.0
PRODID:-//https://www.orchestras.sys.org.au///NONSGML kigkonsult.se iCalcreator 2.10.15//
METHOD:PUBLISH
BEGIN:VEVENT
UID:20260424T075720PDT-1791ZVFZrk@https://www.orchestras.sys.org.au/
DTSTAMP:20260424T145720Z
DESCRIPTION:\nSoloist Spotlight 2020CHRISTMAS CONCERT \n\n\nFriday 4 Decemb
 er 2020  (SYSC No.33)\n\n\n \n\n\nTLC Theatre\, Baulkham Hills High School
 \n\n\n \n\n\nProgram\n\n\n \n\n\nSydney Hills Junior Orchestra\n\n\n \n\n
 \n- Symphony No.6 by L. V. BeethovenArranged for String Orchestra by JEFF 
 MANOOKIAN\n\n\n \n\n\n \n\n\nSydney Hills Youth Orchestra\n\n\n \n\n\n- Ko
 l Nidrei by Max Bruch\n\n\n for violoncello and Orchestra D minor op.47.\n
 \n\n \n\n\n- Symphony No. 29 in A major K201 by Mozart\n\n\n1. Allegro\n\n
 \n2. Andante\n\n\n3. Menuetto\n\n\n4.Allegro con spirito\n\n\n \n\n\nCondu
 ctor - Dr Brian Chatpo Koo\n\n\nSoloist - Felix Soon (cello)\n\n\n \nTicke
 ts and bookings:\n\n\nhttp://www.orchestras.sys.org.au/index.php/concerts/
 event/72-soloist-spotlight-2020\n \nOR Contact our managers:\n\nConcert Ma
 nager Rita Lee: Ph: 0424 567 909 Email: rita.lee@sys.org.auOrchestra Manag
 er - Rebecca Caffyn Ph: 0424 151 452 Email: rebecca.caffyn@sys.org.au http
 s://www.orchestras.sys.org.au/index.php/concerts/event/72-soloist-spotligh
 t-2020-christmas-concert-sysc-no-33
DTSTART:20201204T083000Z
DTEND:20201204T100000Z
LOCATION:Baulkham Hills High School (419A Windsor Road\, Baulkham Hills NSW
  2153\, Australia)
SUMMARY:Soloist Spotlight 2020 Christmas Concert (SYSC No.33)
URL:https://www.orchestras.sys.org.au/index.php/concerts/event/72-soloist-s
 potlight-2020-christmas-concert-sysc-no-33
END:VEVENT
END:VCALENDAR
