BEGIN:VCALENDAR
VERSION:2.0
PRODID:-//https://www.orchestras.sys.org.au///NONSGML kigkonsult.se iCalcreator 2.10.15//
METHOD:PUBLISH
BEGIN:VEVENT
UID:20260424T081859PDT-3403fzp8vn@https://www.orchestras.sys.org.au/
DTSTAMP:20260424T151859Z
DESCRIPTION:THE HILLS YOUNG MUSICIANS CONTEST 2023\nFinals Concert\n8 Septe
 mber 2023\n \nSupported by the Hills Shire Council\, and Baulkham High Sch
 ool\, Sydney Hills Youth Orchestra of the Sydney Contemporary Orchestra - 
 YOUTH SYMPHONY proudly hosts the Hills Young Musicians Awards 2023. \nMayo
 ral Message – Hills Young Musicians Contest 2023\nIn spite of the main aim
  of this contest is to invoke young musicians' passion for music\, broaden
  their performing experience\, heighten performance during their examinati
 ons\, and contribute their talents to the Hills community\, this evening\,
  gifted young musicians will contest for three trophies in three age group
 s each. \n  \nCONTESTANTS\n10 years of age and under \nLihini De Alwis - V
 iolin\nCatherine Kim - Clarinet\nCaroline Zhou - Cello\nYihan Stephanie Li
 n - Violin\nAnnabelle Deng - Flute\nZahra Wickramage - Violin\nMatisse Mok
  - Clarinet\nHarvey Li - Violin\nCharis Song - Violin\nEmily Shi - Violin
 \nConnie Huang - Clarinet\nDabi Kim - Cello\nCelina Nguyen - Cello\nHannah
  Zhou - Viola\nSelina Jung - Clarinet\n Group B 11 and 14 years of age \nR
 aavia Riar - Violin\nXinluyi (Muse) Zhang - Flute\nElise Chen - Cello\nWil
 liam Li - Violin\nUna Kim - Oboe\nAshleigh Wong - Cello\nPhoebe Ge - Violi
 n\nClara Kwon - Cello\nElina Feng - Clarinet\nKatelyn Li - Cello\nGrace Le
 e - French Horn\nUthuli Samarasekara - Violin\nGroup C 15 - 18 years of ag
 e \nHayden North - Cello\nLyra Xi - Double Bass\nCalleigh Chow - Violin\nV
 alery Lin - Cello\nEmma Yi-Xuan Kan Violin\n~~~~~~~~~~~~~~~~~~~~~~~~~~~\nT
 his order may be subject to change\nAdjudicators:\n\n\nBeata Stanowska (Co
 ncertmaster of the Sydney Contemporary Orchestra)\n\n\nSamantha Mailer (Fl
 autist) (Principal flute of the Sydney Contemporary Orchestra)\n\nKaren Co
 rdez (Cellist) (Principal cello of the Sydney Contemporary Orchestra)  \n
 \nBook tickets\nFacebook\n**Sponsored by the  Castle Trophies:\n\nPROGRAM
 \n\n \nTo be admitted to the TLC Theatre for the Finals Concert:All audien
 ce\, guests\, and parents must pre-purchase tickets.All contestants and ac
 companists have to request Passes. (Please designate the name when request
 ing the Pass). https://www.orchestras.sys.org.au/index.php/concerts/event/
 71-finals-concert-of-the-hills-young-musicians-contest-2023
DTSTART:20230908T090000Z
DTEND:20230908T110000Z
LOCATION:Baulkham Hills High School (419A Windsor Road\, Baulkham Hills NSW
  2153\, Australia)
SUMMARY:Finals Concert of The Hills Young Musicians Contest 2023
URL:https://www.orchestras.sys.org.au/index.php/concerts/event/71-finals-co
 ncert-of-the-hills-young-musicians-contest-2023
END:VEVENT
END:VCALENDAR
