BEGIN:VCALENDAR
VERSION:2.0
PRODID:-//https://www.orchestras.sys.org.au///NONSGML kigkonsult.se iCalcreator 2.10.15//
METHOD:PUBLISH
BEGIN:VEVENT
UID:20260424T091655PDT-51267Ui6Wo@https://www.orchestras.sys.org.au/
DTSTAMP:20260424T161655Z
DESCRIPTION:GREAT CONCERTS OF GREAT CLASSICAL SYMPHONIES 2 1929The Hills Or
 ange Blossom Festival 2019\nWestern Sydney Symphony Orchestra\nConcert 2 2
 019\nThursday\, 19 September 2019\, 7:30pm\nPioneer Theatre Castle Hill\nS
 upported by the Hills Council\, and associated with the Hills Orange Bloss
 om Festival\, the Western Sydney Symphony Orchestra is very proudly presen
 ting it's second concert to the Western Sydney communities.\nFeatured with
  local musicians alongside the professional musicians of the Sydney Contem
 porary Orchestra\, this concert will feature great symphonic works of grea
 t classical composers: Marriage of Figaro Overture by Wolfgang Amadeus Moz
 art\, Pavane pour une infante défunte by Joseph Maurice Ravel\, Fantasia -
  Clouds Chasing the Moon by Brian Chatpo Koo\, and Symphony No.35 in D maj
 or by Wolfgang Amadeus Mozart.It will certainly be a great and unforgettab
 le evening as to listening to the great classical symphonies which contain
  complex structures\, rigorous tonalities\, rich harmonies\, and the contr
 asting timbres of the various instruments. Like the paintings of the great
  artists\, or the novels of the great writers\, all of these can open our 
 minds\, widen our vision and enrich our souls. https://www.orchestras.sys.
 org.au/index.php/concerts/event/70-great-concerts-of-great-classical-symph
 onies-2-1929new-event
DTSTART:20190919T093000Z
DTEND:20190919T110000Z
LOCATION:Pioneer Theatre Castle Hill (14 Pennant St\, Castle Hill NSW 2154)
SUMMARY:GREAT CONCERTS OF GREAT CLASSICAL SYMPHONIES 2 1929New event
URL:https://www.orchestras.sys.org.au/index.php/concerts/event/70-great-con
 certs-of-great-classical-symphonies-2-1929new-event
END:VEVENT
END:VCALENDAR
