BEGIN:VCALENDAR
VERSION:2.0
PRODID:-//https://www.orchestras.sys.org.au///NONSGML kigkonsult.se iCalcreator 2.10.15//
METHOD:PUBLISH
BEGIN:VEVENT
UID:20260424T081445PDT-1321VRLonw@https://www.orchestras.sys.org.au/
DTSTAMP:20260424T151445Z
DESCRIPTION: \n \n \nTHIS EVENT HAS BEEN CANCELLED\n \n++++++++++++++++++++
 +++++++++++++\n \nSUMMER TRAINING &amp\; SUMMER CONCERT 2020\nSydney Conte
 mporary Youth Orchestra\nCollaboratively hosted by the Sydney Contemporary
  Youth Orchestra (SCYO) and the Sydney Olympic Park (SOPA)\, this Summer C
 oncert 2020 is a fantastic training program for young musicians of all Syd
 ney suburbs.\nSpecially designed for young music lovers\, the program feat
 ures the highest artistic value\, the most educational and enjoyable music
  of classical\, romantic and contemporary.It provides an opportunity to en
 hance musical absorption capabilities both technically and musically by a 
 concentrated training within a week\, and a concert.Who can join: Young or
 chestral musicians under the age of 25 at the level of AMEB grade 5 and ab
 ove or equivalent.\n\nREHEARSALS:\nFriday 24 January 2020. 4:00pm - 7:00pm
 Venue: Armory Theatre\, Sydney Olympic Park\n\nMonday 20/1 string sections
 . \nTuesday 21/1 wind and brass sections\nWednesday 22/1 - Full orchestra 
 \nThursday 23/1 - Full orchestra \nFriday 24/1 - Full orchestra \n\nCONCER
 T:\nSaturday 25 January 2020. 7:30pm Venue: Open Theatre\, Sydney Olympic 
 ParkFree admission - Please invite your families relatives\, friends along
  with you to have a wonderful weekend evening!\nHOW TO JOIN:\nSimply fill 
 up and send the Signup form:http://www.orchestras.sys.org.au/ind…/join-us/
 summer-concertwith a short video recording of your performance via 'WeTran
 sfer' to management@sys.org.au\nYou will be notified with payment options 
 should your application successful.\nMembership fee: $300(Valid creative k
 ids voucher can be used to save $100.)\nLimited vacancies\, register as so
 on as possible to secure your opportunity.\nINSTRUMENTS:\nFlute\, Oboe\, C
 larinet\, Bassoon\, Horn\, Trumpet\, Trombone\, Tube\, Percussion\, Harp\,
  Violin\, Viola\, Cello\, Double Bass.\nCONTACT: Dr Brian Chatpo Koo\, Art
 istic DirectorPhone 0449 776872 Email bkoo@sys.org.au\n https://www.orches
 tras.sys.org.au/index.php/concerts/event/69-summer-training-and-summer-con
 cert-2020
DTSTART:20200120T050000Z
DTEND:20200124T080000Z
LOCATION:Sydney Olympic Park (Sydney Olympic Park NSW 2127)
SUMMARY:SUMMER TRAINING AND SUMMER CONCERT 2020
URL:https://www.orchestras.sys.org.au/index.php/concerts/event/69-summer-tr
 aining-and-summer-concert-2020
END:VEVENT
END:VCALENDAR
