BEGIN:VCALENDAR
VERSION:2.0
PRODID:-//https://www.orchestras.sys.org.au///NONSGML kigkonsult.se iCalcreator 2.10.15//
METHOD:PUBLISH
BEGIN:VEVENT
UID:20260424T075247PDT-5496IUbt6w@https://www.orchestras.sys.org.au/
DTSTAMP:20260424T145247Z
DESCRIPTION:SOLOIST SPOTLIGHT 2019\nSYS CONCERT 2 2019 (SYSC No.32)\nConduc
 tor - Dr Brian Chapto KooSoloist - Rachael Gock (Violin)\nJunior Orchestra
 \n \nWolfgang Amadeus Mozart ' Eine kleine Nachtmusik'\n\nAllegro\nRomanze
 \nMenuetto Allegro\nRondo Allegro\n\n \n\nConcert Orchestra\n \nL. V. Beet
 hoven Romance for Violin and Orchestra in F Major\, Op. 50\n \nWolfgang Am
 adeus Mozart Symphony No.35 in D major K.285\n\nAllegro con spirito\nAndan
 te\nMenuetto\nFinale Presto\n\n https://www.orchestras.sys.org.au/index.ph
 p/concerts/event/68-sys-concert-2-2019-sysc-no-32
DTSTART:20191213T083000Z
DTEND:20191213T103017Z
LOCATION:Baulkham Hills High School (419A Windsor Road\, Baulkham Hills NSW
  2153\, Australia)
SUMMARY:SYS CONCERT 2 2019  (SYSC No.32)
URL:https://www.orchestras.sys.org.au/index.php/concerts/event/68-sys-conce
 rt-2-2019-sysc-no-32
END:VEVENT
END:VCALENDAR
