BEGIN:VCALENDAR
VERSION:2.0
PRODID:-//https://www.orchestras.sys.org.au///NONSGML kigkonsult.se iCalcreator 2.10.15//
METHOD:PUBLISH
BEGIN:VEVENT
UID:20260424T075242PDT-8995vcwST1@https://www.orchestras.sys.org.au/
DTSTAMP:20260424T145242Z
DESCRIPTION:YOUNG VIRTUOSOS 2019SYS Concert 1 2019 (SYSC No.31)5 July 2019T
 LC Theatre\, Baulkham Hills High School\nConductor - Dr Brian Chatpo KooCo
 ncertmaster - Rachael Gock\nSYS Junior Orchestra -\n1. Mozart Symphony No.
 40 - Allegro molto2. Timothy Phokos - German Dance by K. D. von Dittersdor
 f3. Isabella Kong - Theme from 'Witches' Dance' by N. Paganini4. Jaden Cho
 i - Spinner's Waltz by C. Lumsden5. Douglas Ip -Dance Characteristique by 
 V. Rebikov6. Angela Chiu - Spasvogel by A.T. Grechaninov7. Elina Naperniko
 va - Humoreske by A. Dvorak\nI N T E R V A L\nSYS Concert Orchestra -\n1. 
 Roger Gock - Harlequinade by W.H. Squire2. Audrey Stavropoulos - Hungarian
  Dance by A. Nolck3. Jack Ji Fang - Hungarian Dance by A. Nolck4. Jade Li 
 - Rondo alla zingaresa by H. Ernst5. Orli Ades - Theme from Schindler's Li
 st by J. Williams6. Alina Lin - Csardas by V. Monti7. Mozart Symphony No. 
 24- Allegro spiritoso- Andantino grazioso- Allegro\nTickets and Bookings\n
 Contact: Rita Lee\, Concert Manager: rita.lee@sys.org.au\nPROGRAM BOOKLET
 \n https://www.orchestras.sys.org.au/index.php/concerts/event/67-sys-conce
 rt-1-2019-sysc-no-31
DTSTART:20190705T093000Z
DTEND:20190705T110000Z
LOCATION:Baulkham Hills High School (419A Windsor Road\, Baulkham Hills NSW
  2153\, Australia)
SUMMARY:SYS CONCERT 1 2019 (SYSC No.31)
URL:https://www.orchestras.sys.org.au/index.php/concerts/event/67-sys-conce
 rt-1-2019-sysc-no-31
END:VEVENT
END:VCALENDAR
