BEGIN:VCALENDAR
VERSION:2.0
PRODID:-//https://www.orchestras.sys.org.au///NONSGML kigkonsult.se iCalcreator 2.10.15//
METHOD:PUBLISH
BEGIN:VEVENT
UID:20260424T075232PDT-87188UWv2m@https://www.orchestras.sys.org.au/
DTSTAMP:20260424T145232Z
DESCRIPTION:Western Sydney Symphony Orchestra\nConcert 1 2019Saturday\, 27 
 April 2019\, 7:30pm\nPioneer Theatre Castle HillAddress: 14 Pennant St\, C
 astle Hill NSW 2154 (Castle Hill Library)\nPROGRAM\n\nItalian OvertureFran
 z Schubert\nRomanian Folk DancesBela Bartok (arranged for orchestra by Bri
 an Chatpo Koo)I N T E R M E Z Z O\nSymphony No. 1 in C Major Op. 21Ludwig 
 van Beethoven\n\nWestern Sydney Symphony OrchestraConductor - Dr Brain Cha
 tpo Koo\nThe venue and program may be subject to change.\nBook tickets for
  this concert on Saturday 2 February 2019\, 7:30 pm at Pioneer Theatre\, C
 astle Hill\nConcert Program Notes  https://www.orchestras.sys.org.au/index
 .php/concerts/event/66-wsso-concert-1
DTSTART:20190427T093000Z
DTEND:20190427T110000Z
LOCATION:Pioneer Theatre Castle Hill (14 Pennant St\, Castle Hill NSW 2154)
SUMMARY:WSSO CONCERT 1
URL:https://www.orchestras.sys.org.au/index.php/concerts/event/66-wsso-conc
 ert-1
END:VEVENT
END:VCALENDAR
