BEGIN:VCALENDAR
VERSION:2.0
PRODID:-//https://www.orchestras.sys.org.au///NONSGML kigkonsult.se iCalcreator 2.10.15//
METHOD:PUBLISH
BEGIN:VEVENT
UID:20260424T091950PDT-7788TKK4Ix@https://www.orchestras.sys.org.au/
DTSTAMP:20260424T161950Z
DESCRIPTION:SYDNEY INTERNATIONAL COMPOSERS CONCERT 2018\nSupported by the S
 CO Foundation and the composers themselves\, the Sydney Contemporary Orche
 stra (SCO) proudly presents the Sydney International Composers Concert 201
 8.\nThe Sydney International Composers Concerts were created for today's c
 omposers\, to provide real opportunities for new orchestral music to be pe
 rformed and heard by today's audiences.\nMusic history is written by compo
 sers\, and these composers are commendable and should be highly respected 
 for their hard work\, their dedication to the art\, and their generous con
 tribution to our music culture. All the composers who take part in the Syd
 ney International Composers Consents do so without requiring payment of ro
 yalties they would otherwise be entitled. They do this because they are co
 nvinced that the continued performance of new music is essential to the de
 velopment of our music culture.\nThanks to the SCO Foundation\, that by it
 's limited funds it has enabled this project to happen.\nFeaturing 5 new w
 orks by contemporary composers from the USA\, Italy\, Brazil\, and Austral
 ia\, and with our passionate and dedicated musicians\, Sydney Internationa
 l Composers Concert 2018 is an amazing opportunity to hear new orchestral 
 music of contemporary composers\, to share their musical ideas\, philosoph
 ies and creativity\, and to challenge your ideologies.\n \nPROGRAM\n\nFrom
  the Clash of Race and Creed by Brian T. Field (USA) (World premiere)\nVar
 iazioni by Paolo Geminiani (2018 revision) (Italy) \nVisions des reflets e
 t nocturnes (Full version) by Peter Dickson Lopez (USA) (World premiere)I 
 N T E R V A L\nSymphonic Poem - Jupiter and Semele by André Catelli (Brazi
 l)  (World premiere)\nLushan Falls by Brian Chatpo Koo (Australia) (World 
 premiere)\n\n \nSydney Contemporary Orchestra\nConductor - Dr Brian Chatpo
  KooConcertmaster - Beata StanowskaPianist - Christopher Malek \nTickets a
 nd bookings\nContact:\nConcert Manager Rita Lee rita.lee@sys.org.auOrchest
 ra Manager - Dianne Batcheldor 0427 347 989office@sydneycontemporaryorches
 tra.org.au https://www.orchestras.sys.org.au/index.php/concerts/event/65-s
 ydney-international-composers-concert-2018-sco-concert-no-12
DTSTART:20181012T090000Z
DTEND:20181012T110000Z
LOCATION:Sydney Conservatorium of Music (Macquarie Street\, Sydney NSW 2000
 \, Australia)
SUMMARY:Sydney International Composers Concert 2018 (SCO CONCERT No.12)
URL:https://www.orchestras.sys.org.au/index.php/concerts/event/65-sydney-in
 ternational-composers-concert-2018-sco-concert-no-12
END:VEVENT
END:VCALENDAR
