BEGIN:VCALENDAR
VERSION:2.0
PRODID:-//https://www.orchestras.sys.org.au///NONSGML kigkonsult.se iCalcreator 2.10.15//
METHOD:PUBLISH
BEGIN:VEVENT
UID:20260424T081438PDT-4861dhVvxf@https://www.orchestras.sys.org.au/
DTSTAMP:20260424T151438Z
DESCRIPTION:CHRISTMAS CONCERT 2018SYS Concert 2 2018SYSC No. 30\nSYDNEY CON
 TEMPORARY ORCHESTRAYOUTH SYMPHONY\nPOROGRAM\nJunior OrchestraConductor - K
 ayla Flaxman\nBryton Johnson - Canon and GiguePop song arranged for orches
 tra by Kayla FlaxmanTheme of Symphonies (arr. Jeff Manookian)\nConcert Orc
 hestraConductor - Dr Brian Chatpo Koo\nBrian Chatpo Koo - BoatsBela Bartok
  - Romanian Folk Dances (arr. Dr Brian Chatpo Koo)W. A Mozart - Symphony N
 o. 21 in A major K.1341 Allegro2 Andante3 Menuetto4 Allegro\nTickets and B
 ookings \nContact: Concert Manger Rita Lee rita.lee@sys.org.au\n\n  https:
 //www.orchestras.sys.org.au/index.php/concerts/event/64-christmas-concert-
 2018-sysc-no-30
DTSTART:20181221T083000Z
DTEND:20181221T100000Z
LOCATION:Baulkham Hills High School (419A Windsor Road\, Baulkham Hills NSW
  2153\, Australia)
SUMMARY:Christmas Concert 2018 (SYSC No.30)
URL:https://www.orchestras.sys.org.au/index.php/concerts/event/64-christmas
 -concert-2018-sysc-no-30
END:VEVENT
END:VCALENDAR
