BEGIN:VCALENDAR
VERSION:2.0
PRODID:-//https://www.orchestras.sys.org.au///NONSGML kigkonsult.se iCalcreator 2.10.15//
METHOD:PUBLISH
BEGIN:VEVENT
UID:20260424T091513PDT-1165NiZvIJ@https://www.orchestras.sys.org.au/
DTSTAMP:20260424T161513Z
DESCRIPTION:Charismatic Sounds of Young Musicians\nOrange Blossom Festival 
 Associated Event\n \nSydney Contemporary OrchestraYOUTH SYMPHONYSYS Concer
 t 1 2018SYSC No.29\n\nWELCOME!\n\n\n \n\n\nWelcome to our concert - Charis
 matic Sounds of Young Musicians!\n\n\n \n\n\nThis very special concert is 
 proud to be a part of the Hills Orange Blossom Festival\, and we are honou
 red the presence of the Mayor of the Hills Shire Council\, Dr Michelle Byr
 ne.\n\n\n \n\n\nThe concert will consist of two parts. In the first part\,
  the SYS Junior Orchestra will perform some interesting pieces specially a
 rranged by Kayla Flaxman and myself from our new program 'Putting the Fun 
 in Music Training'. In the second part\, you will hear from our Concert Or
 chestra classicals such as the concerto and the symphony. \n\n\n \n\n\nAt 
 the Sydney Contemporary Orchestra YOUTH SYMPHONY\, we wish to give today's
  young musicians the opportunity to develop their appreciation and underst
 anding of music through the classical symphonies\, with its melody develop
 ment\, the tonalities and the tempi relationships between movements\, and 
 the various timbres of the different instruments in an orchestra. Thus can
  be a magical window for them to view another world - a wonderful\, colour
 ful world! This will broaden their vision globally\, and to enhance their 
 learning and understanding culture and civilisation of human society\, whi
 ch can benefit them over a lifetime.\n\n\n \n\n\nSincere thanks to those p
 arents who give their kids the opportunity to be a part of our orchestras.
 \n\n\n \n\n\nDr Brian Chatpo Koo\n\n\nArtistic Director\n\n\nSydney Contem
 porary Orchestra\n\n\nYOUTH SYMPHONY\n \n\nPROGRAM:\nSYS JUNIOR ORCHESTRAC
 onductor - Kayla Flaxman\n\nRhythm Exercises by Kayla Flaxman\nSome pop so
 ngs arranged for orchestra by Kayla Flaxman\nPop goes the weasel Tradition
 al arr. Brian Chatpo koo\nRondo Alla Turca by W. Mozart arr. Brian Chatpo 
 Koo\n\n \nSYS CONCERT ORCHESTRAConductor - Dr Brian Chatpo KooSoloist - Em
 ma Longo (Flute)\n\nEdvard Grieg - Two Norwegian Melodies for String Orche
 stra\nCecile Chaminade - Concertino for Flute and Orchestra\, Op.107\nWolf
 gang Amadeus Mozart - Symphony No.14 in A Major. K.114\n\n \nTickets &amp\
 ; Bookings\nContact: Rita Lee\, Concert Managerrita.lee@sys.org.aumanageme
 nt@sys.org.au\nDOWNLOAD PROGRAM BOOKLET\n https://www.orchestras.sys.org.a
 u/index.php/concerts/event/63-charismatic-sounds-of-young-musicians
DTSTART:20180907T093000Z
DTEND:20180907T110000Z
LOCATION:Baulkham Hills High School (419A Windsor Road\, Baulkham Hills NSW
  2153\, Australia)
SUMMARY: Charismatic Sounds of Young Musicians
URL:https://www.orchestras.sys.org.au/index.php/concerts/event/63-charismat
 ic-sounds-of-young-musicians
END:VEVENT
END:VCALENDAR
