BEGIN:VCALENDAR
VERSION:2.0
PRODID:-//https://www.orchestras.sys.org.au///NONSGML kigkonsult.se iCalcreator 2.10.15//
METHOD:PUBLISH
BEGIN:VEVENT
UID:20260424T075223PDT-4638ljNrcI@https://www.orchestras.sys.org.au/
DTSTAMP:20260424T145223Z
DESCRIPTION:Putting the fun in music training!\nProgram: \n \n\nRhythm Exer
 cises by Kayla Flaxman\nSome pop songs arranged for orchestra by Kayla Fla
 xman\nPop goes the weasel Traditional arr. Brian Chatpo koo\nRondo Alla Tu
 rca by W. Mozart arr. Brian Chatpo Koo\n\n \nTickets and bookings\nFor mor
 e information: www.orchestras.sys.org.au\nContact: Rita Lee\, Concert Mana
 gerrita.lee@sys.org.au management@sys.org.au https://www.orchestras.sys.or
 g.au/index.php/concerts/event/62-sys-concert-1-2018-sysjo
DTSTART:20180907T093000Z
DTEND:20180907T110000Z
LOCATION:Baulkham Hills High School (419A Windsor Road\, Baulkham Hills NSW
  2153\, Australia)
SUMMARY:SYS CONCERT 1 2018 (SYSJO)
URL:https://www.orchestras.sys.org.au/index.php/concerts/event/62-sys-conce
 rt-1-2018-sysjo
END:VEVENT
END:VCALENDAR
