BEGIN:VCALENDAR
VERSION:2.0
PRODID:-//https://www.orchestras.sys.org.au///NONSGML kigkonsult.se iCalcreator 2.10.15//
METHOD:PUBLISH
BEGIN:VEVENT
UID:20260424T075300PDT-2809A6Dcap@https://www.orchestras.sys.org.au/
DTSTAMP:20260424T145300Z
DESCRIPTION:Join our Concert Orchestra to experience the essence of classic
 al symphonies! \nProgram: \n\nEdvard Grieg - Two Norwegian Melodies for St
 ring Orchestra\nCecile Chaminade - Concertino for Flute and Orchestra\, Op
 .107\nWolfgang Amadeus Mozart - Symphony No.14 in A Major. K.114\n\nWhen: 
 Friday 7\, September 2018.\nWhere: TLC Theatre\, Baulkham Hills High Schoo
 l\n \nTickets and bookings\nFor more information: www.orchestras.sys.org.a
 u\nRita Lee\, Concert Managerrita.lee@sys.org.aumanagement@sys.org.au http
 s://www.orchestras.sys.org.au/index.php/concerts/event/61-sys-concert-1-20
 18-sysc-no-29
DTSTART:20180907T093000Z
DTEND:20180907T110000Z
LOCATION:Baulkham Hills High School (419A Windsor Road\, Baulkham Hills NSW
  2153\, Australia)
SUMMARY:SYS CONCERT 1 2018 (SYSC No.29)
URL:https://www.orchestras.sys.org.au/index.php/concerts/event/61-sys-conce
 rt-1-2018-sysc-no-29
END:VEVENT
END:VCALENDAR
