BEGIN:VCALENDAR
VERSION:2.0
PRODID:-//https://www.orchestras.sys.org.au///NONSGML kigkonsult.se iCalcreator 2.10.15//
METHOD:PUBLISH
BEGIN:VEVENT
UID:20260424T075915PDT-1728IOnauJ@https://www.orchestras.sys.org.au/
DTSTAMP:20260424T145915Z
DESCRIPTION: https://www.orchestras.sys.org.au/index.php/concerts/event/60-
 contemporary-piano-music-of-colombian-composers
DTSTART:20171002T083000Z
DTEND:20171002T111452Z
LOCATION:Baulkham Hills High School (419A Windsor Road\, Baulkham Hills NSW
  2153\, Australia)
SUMMARY:Contemporary Piano Music of Colombian Composers
URL:https://www.orchestras.sys.org.au/index.php/concerts/event/60-contempor
 ary-piano-music-of-colombian-composers
END:VEVENT
END:VCALENDAR
