BEGIN:VCALENDAR
VERSION:2.0
PRODID:-//https://www.orchestras.sys.org.au///NONSGML kigkonsult.se iCalcreator 2.10.15//
METHOD:PUBLISH
BEGIN:VEVENT
UID:20260424T090801PDT-6073WGi6Wu@https://www.orchestras.sys.org.au/
DTSTAMP:20260424T160801Z
DESCRIPTION:SYS SUMMER CONCERT 2018\n14 January 20187:30PM\nTLC TheatreBaul
 kham Hills High School\nSpecially arranged for young music lovers\, the pr
 ogram features the highest artistic value\, the most educational and enjoy
 able music of Classical\, Romantic and 20th Century.\nProgram:\n1. Slane -
  Irish Traditional\, arr. Soon Hee Newbold\n2. Le Petit Negre - C. Debussy
 \, arr. Anne DeBlois\n3. Three Pieces from Album for the Young - R. Schuma
 nn\,  arr. Daniel McCormick\n   1. Soldier's March   2. Chorale   3. The P
 oor Orphan\n4. Divertimento in D major - W. A. Mozart\n   1. Allegro   2. 
 Andante   3. Presto\nConductor - Dr Brian Chatpo Koo\nFree admission.  All
  welcome.\nOr Contact our Managers for more information https://www.orches
 tras.sys.org.au/index.php/concerts/event/53-summer-concert-2018
DTSTART:20180114T083000Z
DTEND:20180114T093000Z
LOCATION:Baulkham Hills High School (419A Windsor Road\, Baulkham Hills NSW
  2153\, Australia)
SUMMARY:Summer Concert 2018
URL:https://www.orchestras.sys.org.au/index.php/concerts/event/53-summer-co
 ncert-2018
END:VEVENT
END:VCALENDAR
