BEGIN:VCALENDAR
VERSION:2.0
PRODID:-//https://www.orchestras.sys.org.au///NONSGML kigkonsult.se iCalcreator 2.10.15//
METHOD:PUBLISH
BEGIN:VEVENT
UID:20260424T091345PDT-09798Z9CG1@https://www.orchestras.sys.org.au/
DTSTAMP:20260424T161345Z
DESCRIPTION: https://www.orchestras.sys.org.au/index.php/concerts/event/52-
 sydney-international-composers-concert-2017
DTSTART:20171006T090000Z
DTEND:20171006T103000Z
LOCATION:Sydney Conservatorium of Music (Macquarie Street\, Sydney NSW 2000
 \, Australia)
SUMMARY:Sydney International Composers Concert 2017
URL:https://www.orchestras.sys.org.au/index.php/concerts/event/52-sydney-in
 ternational-composers-concert-2017
END:VEVENT
END:VCALENDAR
