BEGIN:VCALENDAR
VERSION:2.0
PRODID:-//https://www.orchestras.sys.org.au///NONSGML kigkonsult.se iCalcreator 2.10.15//
METHOD:PUBLISH
BEGIN:VEVENT
UID:20260424T080627PDT-971169k3VG@https://www.orchestras.sys.org.au/
DTSTAMP:20260424T150627Z
DESCRIPTION:Christmas Concert 2017\nSYS CONCERT 2 2017SYSC NO. 28\n8 Decemb
 er 20177:30 PM TLC TheaterBaulkham Hills High School\n \nPROGRAM\nJunior O
 rchestra\n\n\nA. Glazunov - Theme and Variations\n\n\n\nConcert Orchestra
 \n \n\n\nMax Bruch - Kol Nidrei. Adagio for Cello with Orchestra and Harp
 \nKayla Flaxman - Foreward\, for String Orchestra\nLudwig van Beethoven- S
 ymphony No. 1 in C major\, Op.21\n\nConductor - Dr Brian Chatpo KooConduct
 or and Soloist - Kayla Flaxman (cello)\nBooking Tickets\nEnquiries: manage
 ment@sys.org.au\n \nDOWNLOAD PROGRAM BOOKLET\n\n\n https://www.orchestras.
 sys.org.au/index.php/concerts/event/51-sys-concert-2-1017-sys-concert-no-2
 7
DTSTART:20171208T083000Z
DTEND:20171208T100000Z
LOCATION:Baulkham Hills High School (419A Windsor Road\, Baulkham Hills NSW
  2153\, Australia)
SUMMARY:SYS CONCERT 2 1017 (SYS CONCERT NO.27)
URL:https://www.orchestras.sys.org.au/index.php/concerts/event/51-sys-conce
 rt-2-1017-sys-concert-no-27
END:VEVENT
END:VCALENDAR
