BEGIN:VCALENDAR
VERSION:2.0
PRODID:-//https://www.orchestras.sys.org.au///NONSGML kigkonsult.se iCalcreator 2.10.15//
METHOD:PUBLISH
BEGIN:VEVENT
UID:20260424T081524PDT-3766iUJKx5@https://www.orchestras.sys.org.au/
DTSTAMP:20260424T151524Z
DESCRIPTION:Sydney Contemporary Orchestra\nYOUTH SYMPHONY\nConcert Orchestr
 aJunior OrchestraCONCERT 1 2017\nFriday 30 June 2017\, 7:30pmThe TLC Theat
 reBaulkham Hills High School.Program:\nSYS Junior Orchestra\n\nEcossaise b
 y L.V. Beethoven\nOld French Song by Tchaikovsky\nGerman Dance by Schubert
 \nOn Wings of Song by Mendelssohn\nRadetzky March by Johann Strauss\n\nSYS
  Concert Orchestra\n\nFantasia - Clouds Chasing the Moon by Brian Chatpo K
 oo\nSymphony No. 40 in G minor K.550 by Wolfgang Amadeus Mozart\n\nAllegro
  moltoAndanteMenuettoAlegro assai\nConductor - Dr Brian Chatpo KooConcertm
 aster - Larissa Lee           \nTickets and Bookings : Join\nAll students\
 , teachers and staff of Baulkham Hills High School are free admission.\nFo
 r enquires please contact: Rita Lee - Concert ManagerEmail: rita.lee@sys.o
 rg.au\nDOWNLOAD PROGRAM BOOKLET\n https://www.orchestras.sys.org.au/index.
 php/concerts/event/48-sys-concert-1-2017-sys-concert-no-26
DTSTART:20170630T093000Z
DTEND:20170630T110000Z
LOCATION:Baulkham Hills High School (419A Windsor Road\, Baulkham Hills NSW
  2153\, Australia)
SUMMARY:SYS CONCERT 1 2017 (SYS CONCERT NO.26)
URL:https://www.orchestras.sys.org.au/index.php/concerts/event/48-sys-conce
 rt-1-2017-sys-concert-no-26
END:VEVENT
END:VCALENDAR
