BEGIN:VCALENDAR
VERSION:2.0
PRODID:-//https://www.orchestras.sys.org.au///NONSGML kigkonsult.se iCalcreator 2.10.15//
METHOD:PUBLISH
BEGIN:VEVENT
UID:20260424T081559PDT-7503Ou8ku2@https://www.orchestras.sys.org.au/
DTSTAMP:20260424T151559Z
DESCRIPTION:Sydney Contemporary Orchestra\nYOUTH SYMPHONY\nConcert Orchestr
 aJunior OrchestraCONCERT 2 2016\nChristmas concert by the SCO Youth Sympho
 ny Concert Orchestra and Junior Orchestra.Friday 9 December 2016\, 7:30pmT
 he TLC TheatreBaulkham Hills High School.Program:\nThis program is designe
 d for the young musicians of the SYS Junior Orchestra to gain unparalleled
  experiences as concerto soloists.\n \n\nBerceuse by A.Il'inskiy -  Chanel
 le Tiranatvitayakul\nTempo di Ballo by August Nolck - Elina Napernikova \n
 Dance Characteristique by V. Rebikov - Max Tiranatvitayakul \nSpasvgel by 
 A. Grechaninov - Joshua Koo\nWitches Dance by N. Paganini - Rachael Gock\n
 German Dance by S. Nelson - Jessica  Koo \nHumoreske by A. Dvorak - Nichol
 as Ip\nRussian Dance by L. Portnoff - Jonathan Yap\nSpinnier Waltz by C. L
 umsden - Daniella Picca-Park\nHungarian Dance by August Nolck - Kiana Nape
 rnikova\n\n \nSYS Concert Orchestra\nMerry Christimas!\n\nCanon in D by J.
  Pachelbel\nDeck the Hall - Old Welsh\nGreensleeves -  Anonymous\nHark\, T
 he Herald Angels Sing by F. Mendelssohn\nThe First Noel - Traditional Chri
 stmas Carol\nO Come All Ye Faithful by A. Fidielis\nSilent Night by F. Gru
 ber\nJoy to the World by Handel\nPavane Pour une Infante Defunte by Ravel
 \nWe Wish You A Merry Christmas - Traditional\n\n \nAll pieces are arrange
 d for orchestra by Dr Brian Chatpo Koo\n \nConductor - Dr Brian Chatpo Koo
 \nConcertmaster - Maya Louis McMichael           \n\nTickets and Bookings 
 : SCO Box Office\nAll members are eligible to request two free tickets by 
 click JOIN tab after logon.If you need additional tickets please visit SCO
  Box Office to purchase.\nAll students\, teachers and staff of Baulkham Hi
 lls High School are free admission.\n\n \nFor enquires please contact: Rit
 a Lee - Concert ManagerEmail: rita.lee@sys.org.au https://www.orchestras.s
 ys.org.au/index.php/concerts/event/47-sys-concert-2-2016-sys-concert-no-25
DTSTART:20161209T083000Z
DTEND:20161209T100000Z
LOCATION:Baulkham Hills High School (419A Windsor Road\, Baulkham Hills NSW
  2153\, Australia)
SUMMARY:SYS CONCERT 2 2016 (SYS CONCERT NO.25)
URL:https://www.orchestras.sys.org.au/index.php/concerts/event/47-sys-conce
 rt-2-2016-sys-concert-no-25
END:VEVENT
END:VCALENDAR
