BEGIN:VCALENDAR
VERSION:2.0
PRODID:-//https://www.orchestras.sys.org.au///NONSGML kigkonsult.se iCalcreator 2.10.15//
METHOD:PUBLISH
BEGIN:VEVENT
UID:20260424T091331PDT-1893DFZr8e@https://www.orchestras.sys.org.au/
DTSTAMP:20260424T161331Z
DESCRIPTION:Sydney Contemporary Orchestra\nYOUTH SYMPHONY\nConcert Orchestr
 aJunior OrchestraCONCERT 1 2016\nA very unusual concert by the young music
 ians of the SCO Youth Symphony Concert Orchestra and Junior Orchestra.Frid
 ay 24 June 2016\, 7:30pmThe TLC TheatreBaulkham Hills High School.Program:
 W. A. Mozart - Eine Klenie Nachtmusik in G Major\, K. 525\n\nAllegro\nRoma
 nze - Andante\nMenuetto - Allegretto\nRondo - Allegro\n\nF. Schubert - Sym
 phony No. 2 in B flat Major\, D 125\n\n\n\nLargo - Allegro vivace\nAndante
 .\nAllegro vivace.\nPresto.\n\n\n\nConductor - Dr Brian Chatpo KooConcertm
 aster (SYS Concert Orchestra) - Kelvin ZhangConcertmaster (Junior Orchestr
 a) - Maya Louis McMichael           \n\nTickets and Bookings : SCO Box Off
 ice\nAll members are eligible to request two free tickets by click JOIN ta
 b after logon.If you need additional tickets please visit SCO Box Office t
 o purchase.\nAll students\, teachers and staff of Baulkham Hills High Scho
 ol are free admission.\n https://www.orchestras.sys.org.au/index.php/conce
 rts/event/46-sys-concert-1-2016-sys-concert-no-24
DTSTART:20160624T093000Z
DTEND:20160624T110000Z
LOCATION:Baulkham Hills High School (419A Windsor Road\, Baulkham Hills NSW
  2153\, Australia)
SUMMARY:SYS CONCERT 1 2016 (SYS CONCERT NO. 24)
URL:https://www.orchestras.sys.org.au/index.php/concerts/event/46-sys-conce
 rt-1-2016-sys-concert-no-24
END:VEVENT
END:VCALENDAR
