BEGIN:VCALENDAR
VERSION:2.0
PRODID:-//https://www.orchestras.sys.org.au///NONSGML kigkonsult.se iCalcreator 2.10.15//
METHOD:PUBLISH
BEGIN:VEVENT
UID:20260424T075559PDT-1741pMEu6Z@https://www.orchestras.sys.org.au/
DTSTAMP:20260424T145559Z
DESCRIPTION:SYDNEY CONTEMPORARY ORCHESTRA\nYOUTH SYMPHONY\nSUMMER TRAINING 
 AND SUMMER CONCERT 2016\n \nSUMMER TRAINING 2016\nThe SYS Summer Training 
 is an annual event hosted during the school summer holidays each year.\nIt
  provides an opportunity to enhance musical absorption capabilities both t
 echnically and musically by a concentrated training within a week\, and a 
 concert.\nWho can join: Any music lovers above the age of 8 and have been 
 learnt orchestral instruments for about two years.Dates: 4 - 9 January 201
 6Time: 6:30 - 8:30Venue: TLC Theatre\, Baulkham Hills High SchoolCosts: $1
 00\nJOIN US\nSUMMER CONCERT 2016\nWith a variety-style programs\, the summ
 it of the summer training - Summer Concert 2016 will be an exciting refres
 hing and colorful event!\n7:30 pm. Sunday 10 January 2016\nTLC Theatre Bau
 lkham Hills High School\nBOOK TICKETS https://www.orchestras.sys.org.au/in
 dex.php/concerts/event/36-summer-training-summer-concert-2016-sys-concert-
 no-23
DTSTART:20160104T073039Z
DTEND:20160104T093000Z
LOCATION:Baulkham Hills High School (419A Windsor Road\, Baulkham Hills NSW
  2153\, Australia)
SUMMARY:Summer Training & Summer Concert 2016 (SYS CONCERT NO.23)
URL:https://www.orchestras.sys.org.au/index.php/concerts/event/36-summer-tr
 aining-summer-concert-2016-sys-concert-no-23
END:VEVENT
END:VCALENDAR
