BEGIN:VCALENDAR
VERSION:2.0
PRODID:-//https://www.orchestras.sys.org.au///NONSGML kigkonsult.se iCalcreator 2.10.15//
METHOD:PUBLISH
BEGIN:VEVENT
UID:20260424T075524PDT-06171x0Rrw@https://www.orchestras.sys.org.au/
DTSTAMP:20260424T145524Z
DESCRIPTION:Christmas Concert 2015SYDNEY CONTEMPORARY ORCHESTRAYOUTH SYMPHO
 NYCONCERT ORCHESTRA AND JUNIOR ORCHESTRA4 December 2015 7:30pmTLC Theatre 
 Baulkham Hills High School\nSYS CONCERT 2 2015\nSYS Junior Orchestra\n1. T
 arantella by F. Mendelssohn (arr. Brian Chatpo Koo)2. New World Symphony b
 y A. Dvorak (arr. Jeff Manookian)3. The Hunter's Funeral by G. Mahler (arr
 . Alex Pringle)\nSome other joyful pieces for string orchestra\nSYS Concer
 t Orchestra1. Symphony No. 3 in Eb Major by Mozart\n\nMolto Allegro\nAndan
 te\nPresto\n\n2. The Beautiful Blue Danube by J. Strauss\nTickets and Book
 ing:\nStandard $20Concession $15Student $10\nAll SYS Members are eligible 
 to request 2 Complimentary tickets (login first)\nBook tickets online\nAll
  Baulkham Hills High School students\, teachers\, staff are free admission
 \n \n  https://www.orchestras.sys.org.au/index.php/concerts/event/35-sys-c
 oncert-2-2015-sys-concert-no-22
DTSTART:20151204T083000Z
DTEND:20151204T100000Z
LOCATION:Baulkham Hills High School (419A Windsor Road\, Baulkham Hills NSW
  2153\, Australia)
SUMMARY:SYS CONCERT 2 2015 (SYS CONCERT NO.22)
URL:https://www.orchestras.sys.org.au/index.php/concerts/event/35-sys-conce
 rt-2-2015-sys-concert-no-22
END:VEVENT
END:VCALENDAR
