BEGIN:VCALENDAR
VERSION:2.0
PRODID:-//https://www.orchestras.sys.org.au///NONSGML kigkonsult.se iCalcreator 2.10.15//
METHOD:PUBLISH
BEGIN:VEVENT
UID:20260424T081819PDT-4049DTpMpP@https://www.orchestras.sys.org.au/
DTSTAMP:20260424T151819Z
DESCRIPTION:\n\n\nCHAMBERMUSICSHOWCASE II\nSYSCO CONCERT 1 2015 SYS CONCERT
  NO.14\n\n\n\n \n\n\n\nProgramme\n• Four joyful pieces for strings perform
 ed by the SYS Junior Orchestra members\n1. Clarinet Quintet in A Major by 
 Mozart 1st Movement - Allegro\n2. Meditation by Massenet\n3. Hungarian Dan
 ce by Nolck\n4. Romanze by Shostakovich\n5. Rondo Alla Turca by Mozart\n6.
  Barcarolle by Tchaikovsky\n7. ‘Spring’ Concerto by Vivaldi 1st Movement -
  Allegro 2nd Movement - Largo 3rd Movement - Allegro\, Danza Pastorale\nCo
 nductor - Dr Brian Chatpo Koo Concertmaster - Kelvin Zhang\n\n\n https://w
 ww.orchestras.sys.org.au/index.php/concerts/event/23-chamber-music-showcas
 e-ii-sysco-concert-1-2015-sys-concert-no-21
DTSTART;VALUE=DATE:20150619
LOCATION:Baulkham Hills High School (419A Windsor Road\, Baulkham Hills NSW
  2153\, Australia)
SUMMARY:Chamber Music Showcase II SYSCO CONCERT 1 2015  (sys concert no.21)
URL:https://www.orchestras.sys.org.au/index.php/concerts/event/23-chamber-m
 usic-showcase-ii-sysco-concert-1-2015-sys-concert-no-21
END:VEVENT
END:VCALENDAR
