BEGIN:VCALENDAR
VERSION:2.0
PRODID:-//https://www.orchestras.sys.org.au///NONSGML kigkonsult.se iCalcreator 2.10.15//
METHOD:PUBLISH
BEGIN:VEVENT
UID:20260424T081900PDT-2167IgvuUS@https://www.orchestras.sys.org.au/
DTSTAMP:20260424T151900Z
DESCRIPTION:\n\n\nDANCE MUSIC SHOWCASE\nSYSCO CONCERT 2\, 2014 SYS CONCERT 
 NO. 13Friday\, 12 September 2014\, 8:00p.m. TLC Theater\nBaulkham Hills Hi
 gh School\n\n\n\nSYSCO CONCERT 2\, 2014 SYS CONCERT NO. 13\n\nW. A. Mozart
 \, Overture of Marriage of Figaro\nBela Bartok\, Romanian Folk Dances\nJoh
 annes Brahms\, Hungarian Dance No.1\nMaurice Ravel\, Pavane pour une infan
 te defunte\nJohannStrauss\, EmperorWalzes\n\nConductor - Dr Brian Chatpo K
 oo Concertmaster - Natalie Lee\n\n\n\n\n\n https://www.orchestras.sys.org.
 au/index.php/concerts/event/22-dance-music-showcase-sysco-concert-2-2o14-s
 ys-concert-no-19
DTSTART;VALUE=DATE:20140912
LOCATION:Baulkham Hills High School (419A Windsor Road\, Baulkham Hills NSW
  2153\, Australia)
SUMMARY:DANCE MUSIC SHOWCASE SYSCO CONCERT 2 2O14 (sys concert no.19)
URL:https://www.orchestras.sys.org.au/index.php/concerts/event/22-dance-mus
 ic-showcase-sysco-concert-2-2o14-sys-concert-no-19
END:VEVENT
END:VCALENDAR
